BEGIN:VCALENDAR
VERSION:2.0
PRODID:-//Τμήμα Κοινωνικής Πολιτικής Δ.Π.Θ. - ECPv6.15.17.1//NONSGML v1.0//EN
CALSCALE:GREGORIAN
METHOD:PUBLISH
X-ORIGINAL-URL:https://sp.duth.gr
X-WR-CALDESC:Events for Τμήμα Κοινωνικής Πολιτικής Δ.Π.Θ.
REFRESH-INTERVAL;VALUE=DURATION:PT1H
X-Robots-Tag:noindex
X-PUBLISHED-TTL:PT1H
BEGIN:VTIMEZONE
TZID:Europe/Helsinki
BEGIN:DAYLIGHT
TZOFFSETFROM:+0200
TZOFFSETTO:+0300
TZNAME:EEST
DTSTART:20230326T010000
END:DAYLIGHT
BEGIN:STANDARD
TZOFFSETFROM:+0300
TZOFFSETTO:+0200
TZNAME:EET
DTSTART:20231029T010000
END:STANDARD
BEGIN:DAYLIGHT
TZOFFSETFROM:+0200
TZOFFSETTO:+0300
TZNAME:EEST
DTSTART:20240331T010000
END:DAYLIGHT
BEGIN:STANDARD
TZOFFSETFROM:+0300
TZOFFSETTO:+0200
TZNAME:EET
DTSTART:20241027T010000
END:STANDARD
BEGIN:DAYLIGHT
TZOFFSETFROM:+0200
TZOFFSETTO:+0300
TZNAME:EEST
DTSTART:20250330T010000
END:DAYLIGHT
BEGIN:STANDARD
TZOFFSETFROM:+0300
TZOFFSETTO:+0200
TZNAME:EET
DTSTART:20251026T010000
END:STANDARD
END:VTIMEZONE
BEGIN:VEVENT
DTSTART;TZID=Europe/Helsinki:20241008T080000
DTEND;TZID=Europe/Helsinki:20241231T170000
DTSTAMP:20260425T184754
CREATED:20241018T145931Z
LAST-MODIFIED:20241018T151411Z
UID:20679-1728374400-1735664400@sp.duth.gr
SUMMARY:ΥΠΟΔΟΧΗ ΠΡΩΤΟΕΤΩΝ ΦΟΙΤΗΤΩΝ 2024-2025
DESCRIPTION:  \nΥποδοχή πρωτοετών φοιτητών 2024_2025_
URL:https://sp.duth.gr/event/%cf%85%cf%80%ce%bf%ce%b4%ce%bf%cf%87%ce%b7-%cf%80%cf%81%cf%89%cf%84%ce%bf%ce%b5%cf%84%cf%89%ce%bd-%cf%86%ce%bf%ce%b9%cf%84%ce%b7%cf%84%cf%89%ce%bd-2024-2025/
LOCATION:Αμφιθέτατρο Τμήματος ΚΔ\, Παναγή Τσαλδάρη 1\, Κομοτηνή\, 69100\, Greece
CATEGORIES:Εκδηλώσεις Τμήματος
ATTACH;FMTTYPE=image/jpeg:https://sp.duth.gr/wp-content/uploads/2024/10/Αφίσα-υποδοχής-2024_2025_F.jpg
END:VEVENT
END:VCALENDAR